BEGIN:VCALENDAR
VERSION:2.0
PRODID:-//Ataavi - ECPv6.12.0.1//NONSGML v1.0//EN
CALSCALE:GREGORIAN
METHOD:PUBLISH
X-WR-CALNAME:Ataavi
X-ORIGINAL-URL:https://ww.ataavi.org
X-WR-CALDESC:Events for Ataavi
REFRESH-INTERVAL;VALUE=DURATION:PT1H
X-Robots-Tag:noindex
X-PUBLISHED-TTL:PT1H
BEGIN:VTIMEZONE
TZID:Asia/Kolkata
BEGIN:STANDARD
TZOFFSETFROM:+0530
TZOFFSETTO:+0530
TZNAME:IST
DTSTART:20250101T000000
END:STANDARD
END:VTIMEZONE
BEGIN:VEVENT
DTSTART;TZID=Asia/Kolkata:20250202T090000
DTEND;TZID=Asia/Kolkata:20250202T180000
DTSTAMP:20260420T132950
CREATED:20250418T113944Z
LAST-MODIFIED:20250419T040518Z
UID:2080-1738486800-1738519200@ww.ataavi.org
SUMMARY:World Wetland Day Webinar
DESCRIPTION:Campus Bird Walk at Dayananda Sagar Business Academy\, Bengaluru				\n				\n				\n				\n							\n							\n											\n													\n										Bengaluru\n									\n								\n											\n													\n										12 April\, 2026\n									\n								\n											\n													\n										\n									\n						\n						\n				\n					\n				\n		\n					\n		\n				\n				\n					Highlights from the Event				\n				\n				\n				\n									A campus bird walk at Dayananda Sagar Business Academy\, led by Manoj\, showcased the surprising diversity that thrives within an urban academic setting. Participants encountered a mix of familiar and charismatic species\, from the watchful Spotted Owlet tucked into campus trees to the striking White-throated Kingfisher and the ever-adaptable Common Myna and Rock Pigeon. Raptors like Black Kite circled overhead\, while Eastern Cattle Egret and White-browed Wagtail hinted at nearby water-linked habitats.								\n				\n				\n		\n				\n				\n					Partnered with				\n				\n				\n				\n																														\n				\n				\n				\n				\n									The campus greenery supported an active community of smaller birds\, with Black Drongo\, Asian Green Bee-eater\, and Barn Swallow catching insects in flight. Calls of Asian Koel and Oriental Magpie-Robin added to the soundscape\, while Greater Coucal and Yellow-billed Babbler moved through dense vegetation. Sunbirds—both Purple and Purple-rumped—along with Pale-billed Flowerpecker brought flashes of color\, complemented by species like Small Minivet\, Red-whiskered Bulbul\, and Spot-breasted Fantail. The checklist was rounded off by Indian Peafowl\, Spotted Dove\, and a Pied Bushchat\, making the walk a well-rounded introduction to urban bird diversity and observation. 								\n				\n		\n		\n				\n				\n							\n			Number of Participants			\n				\n				0\n				\n			\n		\n						\n				\n				\n				\n							\n			Number of Species Recorded			\n				\n				0\n				\n			\n		\n						\n				\n				\n		\n				\n				\n					Bird Guide: ManojManoj is an avid nature enthusiast who can recognise a wide range of bird species\, a skill honed through two years of regular birding practice. Adventurous at heart\, he is deeply interested in wildlife and spends his time herping\, birding\, photography\, bike rides\, trekking\, and hiking\, always seeking new ways to explore and connect with the natural world.
URL:https://ww.ataavi.org/event/world-wetland-day-webinar/
CATEGORIES:Ataavi College Chapter,Past Event
ATTACH;FMTTYPE=image/webp:https://ww.ataavi.org/wp-content/uploads/2025/04/wetlands.webp
END:VEVENT
BEGIN:VEVENT
DTSTART;TZID=Asia/Kolkata:20250205T090000
DTEND;TZID=Asia/Kolkata:20250205T180000
DTSTAMP:20260420T132950
CREATED:20250418T115637Z
LAST-MODIFIED:20250419T040443Z
UID:2094-1738746000-1738778400@ww.ataavi.org
SUMMARY:Introduction to Birdwatching Workshop ‘Launch Event’
DESCRIPTION:Campus Bird Walk at Dayananda Sagar Business Academy\, Bengaluru				\n				\n				\n				\n							\n							\n											\n													\n										Bengaluru\n									\n								\n											\n													\n										12 April\, 2026\n									\n								\n											\n													\n										\n									\n						\n						\n				\n					\n				\n		\n					\n		\n				\n				\n					Highlights from the Event				\n				\n				\n				\n									A campus bird walk at Dayananda Sagar Business Academy\, led by Manoj\, showcased the surprising diversity that thrives within an urban academic setting. Participants encountered a mix of familiar and charismatic species\, from the watchful Spotted Owlet tucked into campus trees to the striking White-throated Kingfisher and the ever-adaptable Common Myna and Rock Pigeon. Raptors like Black Kite circled overhead\, while Eastern Cattle Egret and White-browed Wagtail hinted at nearby water-linked habitats.								\n				\n				\n		\n				\n				\n					Partnered with				\n				\n				\n				\n																														\n				\n				\n				\n				\n									The campus greenery supported an active community of smaller birds\, with Black Drongo\, Asian Green Bee-eater\, and Barn Swallow catching insects in flight. Calls of Asian Koel and Oriental Magpie-Robin added to the soundscape\, while Greater Coucal and Yellow-billed Babbler moved through dense vegetation. Sunbirds—both Purple and Purple-rumped—along with Pale-billed Flowerpecker brought flashes of color\, complemented by species like Small Minivet\, Red-whiskered Bulbul\, and Spot-breasted Fantail. The checklist was rounded off by Indian Peafowl\, Spotted Dove\, and a Pied Bushchat\, making the walk a well-rounded introduction to urban bird diversity and observation. 								\n				\n		\n		\n				\n				\n							\n			Number of Participants			\n				\n				0\n				\n			\n		\n						\n				\n				\n				\n							\n			Number of Species Recorded			\n				\n				0\n				\n			\n		\n						\n				\n				\n		\n				\n				\n					Bird Guide: ManojManoj is an avid nature enthusiast who can recognise a wide range of bird species\, a skill honed through two years of regular birding practice. Adventurous at heart\, he is deeply interested in wildlife and spends his time herping\, birding\, photography\, bike rides\, trekking\, and hiking\, always seeking new ways to explore and connect with the natural world.
URL:https://ww.ataavi.org/event/introduction-to-birdwatching-workshop-launch-event-rv-university/
CATEGORIES:Ataavi College Chapter,Past Event
ATTACH;FMTTYPE=image/webp:https://ww.ataavi.org/wp-content/uploads/2025/04/intro-to-birdwatch-RV-1.webp
END:VEVENT
BEGIN:VEVENT
DTSTART;TZID=Asia/Kolkata:20250208T090000
DTEND;TZID=Asia/Kolkata:20250208T180000
DTSTAMP:20260420T132950
CREATED:20250418T121657Z
LAST-MODIFIED:20250419T040435Z
UID:2107-1739005200-1739037600@ww.ataavi.org
SUMMARY:Introduction to Birdwatching Workshop ‘Launch Event’
DESCRIPTION:Campus Bird Walk at Dayananda Sagar Business Academy\, Bengaluru				\n				\n				\n				\n							\n							\n											\n													\n										Bengaluru\n									\n								\n											\n													\n										12 April\, 2026\n									\n								\n											\n													\n										\n									\n						\n						\n				\n					\n				\n		\n					\n		\n				\n				\n					Highlights from the Event				\n				\n				\n				\n									A campus bird walk at Dayananda Sagar Business Academy\, led by Manoj\, showcased the surprising diversity that thrives within an urban academic setting. Participants encountered a mix of familiar and charismatic species\, from the watchful Spotted Owlet tucked into campus trees to the striking White-throated Kingfisher and the ever-adaptable Common Myna and Rock Pigeon. Raptors like Black Kite circled overhead\, while Eastern Cattle Egret and White-browed Wagtail hinted at nearby water-linked habitats.								\n				\n				\n		\n				\n				\n					Partnered with				\n				\n				\n				\n																														\n				\n				\n				\n				\n									The campus greenery supported an active community of smaller birds\, with Black Drongo\, Asian Green Bee-eater\, and Barn Swallow catching insects in flight. Calls of Asian Koel and Oriental Magpie-Robin added to the soundscape\, while Greater Coucal and Yellow-billed Babbler moved through dense vegetation. Sunbirds—both Purple and Purple-rumped—along with Pale-billed Flowerpecker brought flashes of color\, complemented by species like Small Minivet\, Red-whiskered Bulbul\, and Spot-breasted Fantail. The checklist was rounded off by Indian Peafowl\, Spotted Dove\, and a Pied Bushchat\, making the walk a well-rounded introduction to urban bird diversity and observation. 								\n				\n		\n		\n				\n				\n							\n			Number of Participants			\n				\n				0\n				\n			\n		\n						\n				\n				\n				\n							\n			Number of Species Recorded			\n				\n				0\n				\n			\n		\n						\n				\n				\n		\n				\n				\n					Bird Guide: ManojManoj is an avid nature enthusiast who can recognise a wide range of bird species\, a skill honed through two years of regular birding practice. Adventurous at heart\, he is deeply interested in wildlife and spends his time herping\, birding\, photography\, bike rides\, trekking\, and hiking\, always seeking new ways to explore and connect with the natural world.
URL:https://ww.ataavi.org/event/introduction-to-birdwatching-workshop-launch-event-indian-institute-of-science-nature-club/
CATEGORIES:Ataavi College Chapter,Past Event
ATTACH;FMTTYPE=image/webp:https://ww.ataavi.org/wp-content/uploads/2025/04/intro-to-birdwatch-IISc-3.webp
END:VEVENT
BEGIN:VEVENT
DTSTART;TZID=Asia/Kolkata:20250215T073000
DTEND;TZID=Asia/Kolkata:20250216T213000
DTSTAMP:20260420T132950
CREATED:20250425T083542Z
LAST-MODIFIED:20250731T101537Z
UID:3204-1739604600-1739741400@ww.ataavi.org
SUMMARY:WWF India- Great Backyard Bird Count
DESCRIPTION:Campus Bird Walk at Dayananda Sagar Business Academy\, Bengaluru				\n				\n				\n				\n							\n							\n											\n													\n										Bengaluru\n									\n								\n											\n													\n										12 April\, 2026\n									\n								\n											\n													\n										\n									\n						\n						\n				\n					\n				\n		\n					\n		\n				\n				\n					Highlights from the Event				\n				\n				\n				\n									A campus bird walk at Dayananda Sagar Business Academy\, led by Manoj\, showcased the surprising diversity that thrives within an urban academic setting. Participants encountered a mix of familiar and charismatic species\, from the watchful Spotted Owlet tucked into campus trees to the striking White-throated Kingfisher and the ever-adaptable Common Myna and Rock Pigeon. Raptors like Black Kite circled overhead\, while Eastern Cattle Egret and White-browed Wagtail hinted at nearby water-linked habitats.								\n				\n				\n		\n				\n				\n					Partnered with				\n				\n				\n				\n																														\n				\n				\n				\n				\n									The campus greenery supported an active community of smaller birds\, with Black Drongo\, Asian Green Bee-eater\, and Barn Swallow catching insects in flight. Calls of Asian Koel and Oriental Magpie-Robin added to the soundscape\, while Greater Coucal and Yellow-billed Babbler moved through dense vegetation. Sunbirds—both Purple and Purple-rumped—along with Pale-billed Flowerpecker brought flashes of color\, complemented by species like Small Minivet\, Red-whiskered Bulbul\, and Spot-breasted Fantail. The checklist was rounded off by Indian Peafowl\, Spotted Dove\, and a Pied Bushchat\, making the walk a well-rounded introduction to urban bird diversity and observation. 								\n				\n		\n		\n				\n				\n							\n			Number of Participants			\n				\n				0\n				\n			\n		\n						\n				\n				\n				\n							\n			Number of Species Recorded			\n				\n				0\n				\n			\n		\n						\n				\n				\n		\n				\n				\n					Bird Guide: ManojManoj is an avid nature enthusiast who can recognise a wide range of bird species\, a skill honed through two years of regular birding practice. Adventurous at heart\, he is deeply interested in wildlife and spends his time herping\, birding\, photography\, bike rides\, trekking\, and hiking\, always seeking new ways to explore and connect with the natural world.
URL:https://ww.ataavi.org/event/wwf-india-great-backyard-bird-count/
CATEGORIES:Collaboration Project,Past Event
ATTACH;FMTTYPE=image/webp:https://ww.ataavi.org/wp-content/uploads/2025/07/announcement-of-walks.webp
END:VEVENT
BEGIN:VEVENT
DTSTART;TZID=Asia/Kolkata:20250216T090000
DTEND;TZID=Asia/Kolkata:20250216T180000
DTSTAMP:20260420T132950
CREATED:20250418T123357Z
LAST-MODIFIED:20250419T040428Z
UID:2124-1739696400-1739728800@ww.ataavi.org
SUMMARY:Campus Bird Count
DESCRIPTION:Campus Bird Walk at Dayananda Sagar Business Academy\, Bengaluru				\n				\n				\n				\n							\n							\n											\n													\n										Bengaluru\n									\n								\n											\n													\n										12 April\, 2026\n									\n								\n											\n													\n										\n									\n						\n						\n				\n					\n				\n		\n					\n		\n				\n				\n					Highlights from the Event				\n				\n				\n				\n									A campus bird walk at Dayananda Sagar Business Academy\, led by Manoj\, showcased the surprising diversity that thrives within an urban academic setting. Participants encountered a mix of familiar and charismatic species\, from the watchful Spotted Owlet tucked into campus trees to the striking White-throated Kingfisher and the ever-adaptable Common Myna and Rock Pigeon. Raptors like Black Kite circled overhead\, while Eastern Cattle Egret and White-browed Wagtail hinted at nearby water-linked habitats.								\n				\n				\n		\n				\n				\n					Partnered with				\n				\n				\n				\n																														\n				\n				\n				\n				\n									The campus greenery supported an active community of smaller birds\, with Black Drongo\, Asian Green Bee-eater\, and Barn Swallow catching insects in flight. Calls of Asian Koel and Oriental Magpie-Robin added to the soundscape\, while Greater Coucal and Yellow-billed Babbler moved through dense vegetation. Sunbirds—both Purple and Purple-rumped—along with Pale-billed Flowerpecker brought flashes of color\, complemented by species like Small Minivet\, Red-whiskered Bulbul\, and Spot-breasted Fantail. The checklist was rounded off by Indian Peafowl\, Spotted Dove\, and a Pied Bushchat\, making the walk a well-rounded introduction to urban bird diversity and observation. 								\n				\n		\n		\n				\n				\n							\n			Number of Participants			\n				\n				0\n				\n			\n		\n						\n				\n				\n				\n							\n			Number of Species Recorded			\n				\n				0\n				\n			\n		\n						\n				\n				\n		\n				\n				\n					Bird Guide: ManojManoj is an avid nature enthusiast who can recognise a wide range of bird species\, a skill honed through two years of regular birding practice. Adventurous at heart\, he is deeply interested in wildlife and spends his time herping\, birding\, photography\, bike rides\, trekking\, and hiking\, always seeking new ways to explore and connect with the natural world.
URL:https://ww.ataavi.org/event/campus-bird-count-with-indian-institute-of-science-nature-club/
CATEGORIES:Ataavi College Chapter,Past Event
ATTACH;FMTTYPE=image/webp:https://ww.ataavi.org/wp-content/uploads/2025/04/Campus-Bird-Count_5.webp
END:VEVENT
BEGIN:VEVENT
DTSTART;TZID=Asia/Kolkata:20250217T090000
DTEND;TZID=Asia/Kolkata:20250217T180000
DTSTAMP:20260420T132950
CREATED:20250418T125332Z
LAST-MODIFIED:20250419T040420Z
UID:2142-1739782800-1739815200@ww.ataavi.org
SUMMARY:Campus Bird Count
DESCRIPTION:Campus Bird Walk at Dayananda Sagar Business Academy\, Bengaluru				\n				\n				\n				\n							\n							\n											\n													\n										Bengaluru\n									\n								\n											\n													\n										12 April\, 2026\n									\n								\n											\n													\n										\n									\n						\n						\n				\n					\n				\n		\n					\n		\n				\n				\n					Highlights from the Event				\n				\n				\n				\n									A campus bird walk at Dayananda Sagar Business Academy\, led by Manoj\, showcased the surprising diversity that thrives within an urban academic setting. Participants encountered a mix of familiar and charismatic species\, from the watchful Spotted Owlet tucked into campus trees to the striking White-throated Kingfisher and the ever-adaptable Common Myna and Rock Pigeon. Raptors like Black Kite circled overhead\, while Eastern Cattle Egret and White-browed Wagtail hinted at nearby water-linked habitats.								\n				\n				\n		\n				\n				\n					Partnered with				\n				\n				\n				\n																														\n				\n				\n				\n				\n									The campus greenery supported an active community of smaller birds\, with Black Drongo\, Asian Green Bee-eater\, and Barn Swallow catching insects in flight. Calls of Asian Koel and Oriental Magpie-Robin added to the soundscape\, while Greater Coucal and Yellow-billed Babbler moved through dense vegetation. Sunbirds—both Purple and Purple-rumped—along with Pale-billed Flowerpecker brought flashes of color\, complemented by species like Small Minivet\, Red-whiskered Bulbul\, and Spot-breasted Fantail. The checklist was rounded off by Indian Peafowl\, Spotted Dove\, and a Pied Bushchat\, making the walk a well-rounded introduction to urban bird diversity and observation. 								\n				\n		\n		\n				\n				\n							\n			Number of Participants			\n				\n				0\n				\n			\n		\n						\n				\n				\n				\n							\n			Number of Species Recorded			\n				\n				0\n				\n			\n		\n						\n				\n				\n		\n				\n				\n					Bird Guide: ManojManoj is an avid nature enthusiast who can recognise a wide range of bird species\, a skill honed through two years of regular birding practice. Adventurous at heart\, he is deeply interested in wildlife and spends his time herping\, birding\, photography\, bike rides\, trekking\, and hiking\, always seeking new ways to explore and connect with the natural world.
URL:https://ww.ataavi.org/event/campus-bird-count-with-rv-university-and-the-green-alliance/
CATEGORIES:Ataavi College Chapter,Past Event
ATTACH;FMTTYPE=image/webp:https://ww.ataavi.org/wp-content/uploads/2025/04/CBC-1.webp
END:VEVENT
BEGIN:VEVENT
DTSTART;TZID=Asia/Kolkata:20250228T090000
DTEND;TZID=Asia/Kolkata:20250228T180000
DTSTAMP:20260420T132950
CREATED:20250418T131909Z
LAST-MODIFIED:20250419T040414Z
UID:2155-1740733200-1740765600@ww.ataavi.org
SUMMARY:Birdathon Launch Event
DESCRIPTION:Campus Bird Walk at Dayananda Sagar Business Academy\, Bengaluru				\n				\n				\n				\n							\n							\n											\n													\n										Bengaluru\n									\n								\n											\n													\n										12 April\, 2026\n									\n								\n											\n													\n										\n									\n						\n						\n				\n					\n				\n		\n					\n		\n				\n				\n					Highlights from the Event				\n				\n				\n				\n									A campus bird walk at Dayananda Sagar Business Academy\, led by Manoj\, showcased the surprising diversity that thrives within an urban academic setting. Participants encountered a mix of familiar and charismatic species\, from the watchful Spotted Owlet tucked into campus trees to the striking White-throated Kingfisher and the ever-adaptable Common Myna and Rock Pigeon. Raptors like Black Kite circled overhead\, while Eastern Cattle Egret and White-browed Wagtail hinted at nearby water-linked habitats.								\n				\n				\n		\n				\n				\n					Partnered with				\n				\n				\n				\n																														\n				\n				\n				\n				\n									The campus greenery supported an active community of smaller birds\, with Black Drongo\, Asian Green Bee-eater\, and Barn Swallow catching insects in flight. Calls of Asian Koel and Oriental Magpie-Robin added to the soundscape\, while Greater Coucal and Yellow-billed Babbler moved through dense vegetation. Sunbirds—both Purple and Purple-rumped—along with Pale-billed Flowerpecker brought flashes of color\, complemented by species like Small Minivet\, Red-whiskered Bulbul\, and Spot-breasted Fantail. The checklist was rounded off by Indian Peafowl\, Spotted Dove\, and a Pied Bushchat\, making the walk a well-rounded introduction to urban bird diversity and observation. 								\n				\n		\n		\n				\n				\n							\n			Number of Participants			\n				\n				0\n				\n			\n		\n						\n				\n				\n				\n							\n			Number of Species Recorded			\n				\n				0\n				\n			\n		\n						\n				\n				\n		\n				\n				\n					Bird Guide: ManojManoj is an avid nature enthusiast who can recognise a wide range of bird species\, a skill honed through two years of regular birding practice. Adventurous at heart\, he is deeply interested in wildlife and spends his time herping\, birding\, photography\, bike rides\, trekking\, and hiking\, always seeking new ways to explore and connect with the natural world.
URL:https://ww.ataavi.org/event/birdathon-launch-event-with-jyoti-nivas-college/
CATEGORIES:Ataavi College Chapter,Past Event
ATTACH;FMTTYPE=image/webp:https://ww.ataavi.org/wp-content/uploads/2025/04/BLE-JNC-2.webp
END:VEVENT
END:VCALENDAR